BEGIN:VCALENDAR
VERSION:2.0
PRODID:-//eventon.com NONSGML v1.0//EN
BEGIN:VEVENT
UID:69e5f9eecfd31
DTSTAMP:20260420T120326
DTSTART:20240513T220000Z
DTEND:20240513T220000Z
LOCATION:
SUMMARY:Toruń - 14.05.2024 - Ile zarabia deweloper? Błędy i problemy kontra przychody\,  koszty i zyski w inwestycji w 2024 roku - Paweł Preisner
DESCRIPTION: Toruń - 14.05.2024 - Ile zarabia deweloper? Błędy i problemy kontra przychody\,  koszty i zyski w inwestycji w 2024 roku - Paweł Preisner
URL:https://mieszkanicznik.org.pl/events/torun-14-05-2024-pawel-preisner-temat-wkrotce/
END:VEVENT
END:VCALENDAR