BEGIN:VCALENDAR
VERSION:2.0
PRODID:-//eventon.com NONSGML v1.0//EN
BEGIN:VEVENT
UID:69e494f10c378
DTSTAMP:20260419T104017
DTSTART:20240528T160000Z
DTEND:20240528T190000Z
LOCATION:
SUMMARY:Katowice - 28.05.2024 Miejscowy plan zagospodarowania przestrzennego oraz inne zagadnienia planowania przestrzennego. Paweł Duś
DESCRIPTION: Katowice - 28.05.2024 Miejscowy plan zagospodarowania przestrzennego oraz inne zagadnienia planowania przestrzennego. Paweł Duś
URL:https://mieszkanicznik.org.pl/events/katowice-23-05-2024-miejscowy-plan-zagospodarowania-przestrzennego-oraz-inne-zagadnienia-planowania-przestrzennego-pawel-dus/
END:VEVENT
END:VCALENDAR