BEGIN:VCALENDAR
VERSION:2.0
PRODID:-//eventon.com NONSGML v1.0//EN
BEGIN:VEVENT
UID:69e7fa1312b94
DTSTAMP:20260422T002835
DTSTART:20240320T160000Z
DTEND:20240320T190000Z
LOCATION:
SUMMARY:Gorzów Wlkp.20.03.2024 - Inwestowanie w nieruchomości na Słonecznym Wybrzeżu Hiszpanii (Costa del Sol).
DESCRIPTION: Gorzów Wlkp.20.03.2024 - Inwestowanie w nieruchomości na Słonecznym Wybrzeżu Hiszpanii (Costa del Sol).
URL:https://mieszkanicznik.org.pl/events/gorzow-wlkp-20-03-2024-inwestowanie-w-nieruchomosci-na-slonecznym-wybrzezu-hiszpanii-costa-del-sol/
END:VEVENT
END:VCALENDAR