BEGIN:VCALENDAR
VERSION:2.0
PRODID:-//eventon.com NONSGML v1.0//EN
BEGIN:VEVENT
UID:69e88894a5c2c
DTSTAMP:20260422T103636
DTSTART:20240222T154500Z
DTEND:20240222T190000Z
LOCATION:
SUMMARY:POZNAŃ - 22.02.2024 - Natalia Drysiak - Nieruchomości - na czym dziś najwięcej się zarabia?
DESCRIPTION: POZNAŃ - 22.02.2024 - Natalia Drysiak - Nieruchomości - na czym dziś najwięcej się zarabia?
URL:https://mieszkanicznik.org.pl/events/poznan-22-02-2024-natalia-drysiak-nieruchomosci-na-czym-dzis-najwiecej-sie-zarabia/
END:VEVENT
END:VCALENDAR