BEGIN:VCALENDAR
VERSION:2.0
PRODID:-//eventon.com NONSGML v1.0//EN
BEGIN:VEVENT
UID:69e8c15781947
DTSTAMP:20260422T143847
DTSTART:20240702T070000Z
DTEND:20240702T080000Z
LOCATION:
SUMMARY:Dyżur - Robert Kuliga - Najem. Projektowanie. Home staging. Remonty
DESCRIPTION: Dyżur - Robert Kuliga - Najem. Projektowanie. Home staging. Remonty
URL:https://mieszkanicznik.org.pl/events/dyzur-robert-kuliga-najem-projektowanie-home-staging-remonty/var/ri-6.l-L1
END:VEVENT
END:VCALENDAR