BEGIN:VCALENDAR
VERSION:2.0
PRODID:-//eventon.com NONSGML v1.0//EN
BEGIN:VEVENT
UID:69e5e72a55810
DTSTAMP:20260420T104322
DTSTART:20240402T070000Z
DTEND:20240402T080000Z
LOCATION:
SUMMARY:Dyżur - Robert Kuliga - Najem. Projektowanie. Home staging. Remonty
DESCRIPTION: Dyżur - Robert Kuliga - Najem. Projektowanie. Home staging. Remonty
URL:https://mieszkanicznik.org.pl/events/dyzur-robert-kuliga-najem-projektowanie-home-staging-remonty/var/ri-3.l-L1
END:VEVENT
END:VCALENDAR