BEGIN:VCALENDAR
VERSION:2.0
PRODID:-//eventon.com NONSGML v1.0//EN
BEGIN:VEVENT
UID:69e5e1b7d70c2
DTSTAMP:20260420T102007
DTSTART:20240102T070000Z
DTEND:20240102T080000Z
LOCATION:
SUMMARY:Dyżur - Robert Kuliga - Najem. Projektowanie. Home staging. Remonty
DESCRIPTION: Dyżur - Robert Kuliga - Najem. Projektowanie. Home staging. Remonty
URL:https://mieszkanicznik.org.pl/events/dyzur-robert-kuliga-najem-projektowanie-home-staging-remonty/
END:VEVENT
END:VCALENDAR