BEGIN:VCALENDAR
VERSION:2.0
PRODID:-//eventon.com NONSGML v1.0//EN
BEGIN:VEVENT
UID:69e5f9cf710bc
DTSTAMP:20260420T120255
DTSTART:20240111T160000Z
DTEND:20240111T200000Z
LOCATION:
SUMMARY:Częstochowa 11.01.2024 - Maciej Bis - Anonimowe nieruchomości na wynajem\,  czyli jak zachować prywatność swojego majątku
DESCRIPTION: Częstochowa 11.01.2024 - Maciej Bis - Anonimowe nieruchomości na wynajem\,  czyli jak zachować prywatność swojego majątku
URL:https://mieszkanicznik.org.pl/events/czestochowa-11-01-2024-maciej-bis-anonimowe-nieruchomosci-na-wynajem-czyli-jak-zachowac-prywatnosc-swojego-majatku/
END:VEVENT
END:VCALENDAR