BEGIN:VCALENDAR
VERSION:2.0
PRODID:-//eventon.com NONSGML v1.0//EN
BEGIN:VEVENT
UID:69e814d1d21e0
DTSTAMP:20260422T022241
DTSTART:20240109T160000Z
DTEND:20240109T210000Z
LOCATION:
SUMMARY:Warszawa - 9.01.2024 - szkolenie - Nie tylko wygląd nieruchomości ma znaczenie - Magdalena Andler
DESCRIPTION: Warszawa - 9.01.2024 - szkolenie - Nie tylko wygląd nieruchomości ma znaczenie - Magdalena Andler
URL:https://mieszkanicznik.org.pl/events/warszawa-9-01-2024-szkolenie-nie-tylko-wyglad-nieruchomosci-ma-znaczenie-magdalena-andler/
END:VEVENT
END:VCALENDAR