BEGIN:VCALENDAR
VERSION:2.0
PRODID:-//eventon.com NONSGML v1.0//EN
BEGIN:VEVENT
UID:69e813cef07cf
DTSTAMP:20260422T021822
DTSTART:20240116T160000Z
DTEND:20240116T200000Z
LOCATION:
SUMMARY:Gliwice 16.01.2024 - -Ewelina Matyjasik-Lewandowska Home Staging
DESCRIPTION: Gliwice 16.01.2024 - -Ewelina Matyjasik-Lewandowska Home Staging
URL:https://mieszkanicznik.org.pl/events/gliwice-16-01-2024-ewelina-matyjasik-lewandowska-home-staging/
END:VEVENT
END:VCALENDAR