BEGIN:VCALENDAR
VERSION:2.0
PRODID:-//eventon.com NONSGML v1.0//EN
BEGIN:VEVENT
UID:69e508602b825
DTSTAMP:20260419T185248
DTSTART:20231121T090000Z
DTEND:20231121T170000Z
LOCATION:
SUMMARY:Akademia Mieszkanicznika - 21.11.2023 - szkolenie online - Jak Zarabiać na Wierzytelnościach Hipotecznych?
DESCRIPTION: Akademia Mieszkanicznika - 21.11.2023 - szkolenie online - Jak Zarabiać na Wierzytelnościach Hipotecznych?
URL:https://mieszkanicznik.org.pl/events/akademia-mieszkanicznika-21-11-2023-szkolenie-online-jak-zarabiac-na-wierzytelnosciach-hipotecznych/
END:VEVENT
END:VCALENDAR