BEGIN:VCALENDAR
VERSION:2.0
PRODID:-//eventon.com NONSGML v1.0//EN
BEGIN:VEVENT
UID:69e89a1ee5062
DTSTAMP:20260422T115126
DTSTART:20231123T153000Z
DTEND:20231123T210000Z
LOCATION:
SUMMARY:Gdańsk - 23.11.2023 - Aspekty praktyczne i prawne w biznesie Kwater Pracowniczych - Natalia Gorszkowa i Sylwia Mendak-Niekurzak
DESCRIPTION: Gdańsk - 23.11.2023 - Aspekty praktyczne i prawne w biznesie Kwater Pracowniczych - Natalia Gorszkowa i Sylwia Mendak-Niekurzak
URL:https://mieszkanicznik.org.pl/events/gdansk-23-11-2023-aspekty-praktyczne-i-prawne-w-biznesie-kwater-pracowniczych-natalia-gorszkowa-i-sylwia-mendak-niekurzak/
END:VEVENT
END:VCALENDAR