BEGIN:VCALENDAR
VERSION:2.0
PRODID:-//eventon.com NONSGML v1.0//EN
BEGIN:VEVENT
UID:69e60a3a0f83a
DTSTAMP:20260420T131258
DTSTART:20231116T160000Z
DTEND:20231116T200000Z
LOCATION:
SUMMARY:Mieszkanicznik w Gliwicach 16.11.2023 - Spotkanie networkingowe
DESCRIPTION: Mieszkanicznik w Gliwicach 16.11.2023 - Spotkanie networkingowe
URL:https://mieszkanicznik.org.pl/events/mieszkanicznik-w-gliwicach-16-11-2023-spotkanie-networkingowe/
END:VEVENT
END:VCALENDAR