BEGIN:VCALENDAR
VERSION:2.0
PRODID:-//eventon.com NONSGML v1.0//EN
BEGIN:VEVENT
UID:69e886e100b60
DTSTAMP:20260422T102921
DTSTART:20231030T090000Z
DTEND:20231030T100000Z
LOCATION:
SUMMARY:LIVE z ekspertem 30.10.2023 - Nowe inwestycje w Mieszkaniczniku - Natalia Drysiak\,  Jacek Kusiak
DESCRIPTION: LIVE z ekspertem 30.10.2023 - Nowe inwestycje w Mieszkaniczniku - Natalia Drysiak\,  Jacek Kusiak
URL:https://mieszkanicznik.org.pl/events/live-z-ekspertem-30-10-2023-nowe-inwestycje-w-mieszkaniczniku-natalia-drysiak-jacek-kusiak/
END:VEVENT
END:VCALENDAR