BEGIN:VCALENDAR
VERSION:2.0
PRODID:-//eventon.com NONSGML v1.0//EN
BEGIN:VEVENT
UID:69e5e3bd45820
DTSTAMP:20260420T102845
DTSTART:20231115T160000Z
DTEND:20231115T215900Z
LOCATION:
SUMMARY:Bydgoszcz- 15.11.2023 - szkolenie: Ile zarabia deweloper? - Paweł Preisner
DESCRIPTION: Bydgoszcz- 15.11.2023 - szkolenie: Ile zarabia deweloper? - Paweł Preisner
URL:https://mieszkanicznik.org.pl/events/bydgoszcz-15-11-2023-szkolenie-ile-zarabia-deweloper-pawel-preisner/
END:VEVENT
END:VCALENDAR