BEGIN:VCALENDAR
VERSION:2.0
PRODID:-//eventon.com NONSGML v1.0//EN
BEGIN:VEVENT
UID:69e5f9b3dcc8b
DTSTAMP:20260420T120227
DTSTART:20230928T160000Z
DTEND:20230928T210000Z
LOCATION:
SUMMARY:Białystok - 28.09.2023 - szkolenie: Zarządzenie zespołem etyczne czy osiąganie celów. Dylemat przywódcy - studium przypadków - Zbyszek Dzideczek
DESCRIPTION: Białystok - 28.09.2023 - szkolenie: Zarządzenie zespołem etyczne czy osiąganie celów. Dylemat przywódcy - studium przypadków - Zbyszek Dzideczek
URL:https://mieszkanicznik.org.pl/events/bialystok-28-09-2023-szkolenie-zarzadzenie-zespolem-etyczne-czy-osiaganie-celow-dylemat-przywodcy-studium-przypadkow-zbyszek-dzideczek/
END:VEVENT
END:VCALENDAR