BEGIN:VCALENDAR
VERSION:2.0
PRODID:-//eventon.com NONSGML v1.0//EN
BEGIN:VEVENT
UID:69e61f610e52a
DTSTAMP:20260420T144313
DTSTART:20230419T163000Z
DTEND:20230419T190000Z
LOCATION:
SUMMARY:Katowice 19.04 Marcin Kłodnicki: Fundacje Rodzinne
DESCRIPTION: Katowice 19.04 Marcin Kłodnicki: Fundacje Rodzinne
URL:https://mieszkanicznik.org.pl/events/katowice-19-04-marcin-klodnicki-fundacje-rodzinne/
END:VEVENT
END:VCALENDAR