BEGIN:VCALENDAR
VERSION:2.0
PRODID:-//eventon.com NONSGML v1.0//EN
BEGIN:VEVENT
UID:69e67aedc1e91
DTSTAMP:20260420T211349
DTSTART:20230411T160000Z
DTEND:20230411T193000Z
LOCATION:
SUMMARY:Warszawa - 11.04.2023 - szkolenie - Od umowy najmu do szybkiej egzekucji - Anna Niecikowska
DESCRIPTION: Warszawa - 11.04.2023 - szkolenie - Od umowy najmu do szybkiej egzekucji - Anna Niecikowska
URL:https://mieszkanicznik.org.pl/events/warszawa-11-04-2023-szkolenie-od-umowy-najmu-do-szybkiej-egzekucji-anna-niecikowska/
END:VEVENT
END:VCALENDAR