BEGIN:VCALENDAR
VERSION:2.0
PRODID:-//eventon.com NONSGML v1.0//EN
BEGIN:VEVENT
UID:69e5e7720ca39
DTSTAMP:20260420T104434
DTSTART:20230309T150000Z
DTEND:20230309T210000Z
LOCATION:
SUMMARY:Łódź - 9.03.2023 spotkanie integracyjne
DESCRIPTION: Łódź - 9.03.2023 spotkanie integracyjne
URL:https://mieszkanicznik.org.pl/events/lodz-9-03-2023-spotkanie-integracyjne/
END:VEVENT
END:VCALENDAR