BEGIN:VCALENDAR
VERSION:2.0
PRODID:-//eventon.com NONSGML v1.0//EN
BEGIN:VEVENT
UID:69e61f7d83905
DTSTAMP:20260420T144341
DTSTART:20230309T160000Z
DTEND:20230309T200000Z
LOCATION:
SUMMARY:Częstochowa 9.03.2023 - Podnajem\,  kwatery i jak je znajdować w trudnych czasach? Grzegorz Kusz
DESCRIPTION: Częstochowa 9.03.2023 - Podnajem\,  kwatery i jak je znajdować w trudnych czasach? Grzegorz Kusz
URL:https://mieszkanicznik.org.pl/events/czestochowa-9-03-2023-podnajem-kwatery-i-jak-je-znajdowac-w-trudnych-czasach-grzegorz-kusz/
END:VEVENT
END:VCALENDAR