BEGIN:VCALENDAR
VERSION:2.0
PRODID:-//eventon.com NONSGML v1.0//EN
BEGIN:VEVENT
UID:69e68a6047737
DTSTAMP:20260420T221944
DTSTART:20230513T070000Z
DTEND:20230513T170000Z
LOCATION:
SUMMARY:Szkolenie "Bezpieczny Wynajem Mieszkania" - Warszawa 13.05.2023 r.
DESCRIPTION: Szkolenie "Bezpieczny Wynajem Mieszkania" - Warszawa 13.05.2023 r.
URL:https://mieszkanicznik.org.pl/events/szkolenie-bezpieczny-wynajem-mieszkania-warszawa-13-05-2023-r/
END:VEVENT
END:VCALENDAR