BEGIN:VCALENDAR
VERSION:2.0
PRODID:-//eventon.com NONSGML v1.0//EN
BEGIN:VEVENT
UID:69e75bf998ea6
DTSTAMP:20260421T131401
DTSTART:20230315T153000Z
DTEND:20230315T190000Z
LOCATION:
SUMMARY:Kielce 15.03.2023 - szkolenie: Sukcesja finansowa w biznesie i życiu prywatnym -  Marcin Kłodnicki
DESCRIPTION: Kielce 15.03.2023 - szkolenie: Sukcesja finansowa w biznesie i życiu prywatnym -  Marcin Kłodnicki
URL:https://mieszkanicznik.org.pl/events/kielce-15-03-2023-szkolenie-sukcesja-finansowa-w-biznesie-i-zyciu-prywatnym-marcin-klodnicki/
END:VEVENT
END:VCALENDAR