BEGIN:VCALENDAR
VERSION:2.0
PRODID:-//eventon.com NONSGML v1.0//EN
BEGIN:VEVENT
UID:69e75c37ef210
DTSTAMP:20260421T131503
DTSTART:20230309T153000Z
DTEND:20230309T190000Z
LOCATION:
SUMMARY:Bydgoszcz- 9.03.2023 - Renton - jak weszliśmy na szybki tor budowy dochodów pasywnych?
DESCRIPTION: Bydgoszcz- 9.03.2023 - Renton - jak weszliśmy na szybki tor budowy dochodów pasywnych?
URL:https://mieszkanicznik.org.pl/events/bydgoszcz-9-03-2023-renton-jak-weszlismy-na-szybki-tor-budowy-dochodow-pasywnych/
END:VEVENT
END:VCALENDAR