BEGIN:VCALENDAR
VERSION:2.0
PRODID:-//eventon.com NONSGML v1.0//EN
BEGIN:VEVENT
UID:69e61f31b8ce9
DTSTAMP:20260420T144225
DTSTART:20230223T160000Z
DTEND:20230223T200000Z
LOCATION:
SUMMARY:Gdańsk - 23.02.2023 - Integracja na Kręgielni
DESCRIPTION: Gdańsk - 23.02.2023 - Integracja na Kręgielni
URL:https://mieszkanicznik.org.pl/events/gdansk-23-02-2023-integracja-na-kregielni/
END:VEVENT
END:VCALENDAR