BEGIN:VCALENDAR
VERSION:2.0
PRODID:-//eventon.com NONSGML v1.0//EN
BEGIN:VEVENT
UID:69e60e220b69e
DTSTAMP:20260420T132938
DTSTART:20230124T153000Z
DTEND:20230124T190000Z
LOCATION:
SUMMARY:Zielona Góra 24.01.2023 - Najczęstsze błędy inwestorów w nieruchomości na wynajem - Magdalena Lockau
DESCRIPTION: Zielona Góra 24.01.2023 - Najczęstsze błędy inwestorów w nieruchomości na wynajem - Magdalena Lockau
URL:https://mieszkanicznik.org.pl/events/zielona-gora-24-01-2023-najczestsze-bledy-inwestorow-w-nieruchomosci-na-wynajem-magdalena-lockau/
END:VEVENT
END:VCALENDAR