BEGIN:VCALENDAR
VERSION:2.0
PRODID:-//eventon.com NONSGML v1.0//EN
BEGIN:VEVENT
UID:69e5e3bca7eea
DTSTAMP:20260420T102844
DTSTART:20230309T160000Z
DTEND:20230309T190000Z
LOCATION:
SUMMARY:Kraków - 09.03.2023 - Od umowy najmu do szybkiej egzekucji  czyli jak skutecznie zabezpieczyć płatność czynszu i jego waloryzację w czasach szalejącej inflacji.
DESCRIPTION: Kraków - 09.03.2023 - Od umowy najmu do szybkiej egzekucji  czyli jak skutecznie zabezpieczyć płatność czynszu i jego waloryzację w czasach szalejącej inflacji.
URL:https://mieszkanicznik.org.pl/events/krakow-09-03-2023-od-umowy-najmu-do-szybkiej-egzekucji-czyli-jak-skutecznie-zabezpieczyc-platnosc-czynszu-i-jego-waloryzacje-w-czasach-szalejacej-inflacji/
END:VEVENT
END:VCALENDAR