BEGIN:VCALENDAR
VERSION:2.0
PRODID:-//eventon.com NONSGML v1.0//EN
BEGIN:VEVENT
UID:69e6a05c45359
DTSTAMP:20260420T235332
DTSTART:20230112T160000Z
DTEND:20230112T183000Z
LOCATION:
SUMMARY:Łódź - 12.01.2023 - Analiza Księgi Wieczystej oraz biały wywiad na podstawie wybranych nieruchomości - Adam Florczak
DESCRIPTION: Łódź - 12.01.2023 - Analiza Księgi Wieczystej oraz biały wywiad na podstawie wybranych nieruchomości - Adam Florczak
URL:https://mieszkanicznik.org.pl/events/lodz-12-01-2023-analiza-ksiegi-wieczystej-oraz-bialy-wywiad-na-podstawie-wybranych-nieruchomosci-adam-florczak/
END:VEVENT
END:VCALENDAR