BEGIN:VCALENDAR
VERSION:2.0
PRODID:-//eventon.com NONSGML v1.0//EN
BEGIN:VEVENT
UID:69e69b856f27d
DTSTAMP:20260420T233253
DTSTART:20230109T090000Z
DTEND:20230109T110000Z
LOCATION:
SUMMARY:LIVE 09.01 g. 11:00 "Podatki w nieruchomościach w 2023 roku - co się zmieni i jak je optymalizować" - Marcin Szymocha
DESCRIPTION: LIVE 09.01 g. 11:00 "Podatki w nieruchomościach w 2023 roku - co się zmieni i jak je optymalizować" - Marcin Szymocha
URL:https://mieszkanicznik.org.pl/events/live-09-01-g-1100-podatki-w-nieruchomosciach-w-2023-roku-co-sie-zmieni-i-jak-je-optymalizowac-marcin-szymocha/
END:VEVENT
END:VCALENDAR