BEGIN:VCALENDAR
VERSION:2.0
PRODID:-//eventon.com NONSGML v1.0//EN
BEGIN:VEVENT
UID:69e60e1785b0e
DTSTAMP:20260420T132927
DTSTART:20221229T160000Z
DTEND:20221229T213000Z
LOCATION:
SUMMARY:Białystok - 29.12.2022 -  Spotkanie Wigilijno - Noworoczne
DESCRIPTION: Białystok - 29.12.2022 -  Spotkanie Wigilijno - Noworoczne
URL:https://mieszkanicznik.org.pl/events/bialystok-29-12-2022-spotkanie-wigilijno-noworoczne/
END:VEVENT
END:VCALENDAR