BEGIN:VCALENDAR
VERSION:2.0
PRODID:-//eventon.com NONSGML v1.0//EN
BEGIN:VEVENT
UID:69e60e21da500
DTSTAMP:20260420T132937
DTSTART:20230118T153000Z
DTEND:20230118T190000Z
LOCATION:
SUMMARY:Kielce 18.01.2023 - Podatki dla inwestujących w mieszkania w 2023 r. - Marcin Szymocha
DESCRIPTION: Kielce 18.01.2023 - Podatki dla inwestujących w mieszkania w 2023 r. - Marcin Szymocha
URL:https://mieszkanicznik.org.pl/events/kielce-18-01-2023-podatki-dla-inwestujacych-w-mieszkania-w-2023-r-marcin-szymocha/
END:VEVENT
END:VCALENDAR