BEGIN:VCALENDAR
VERSION:2.0
PRODID:-//eventon.com NONSGML v1.0//EN
BEGIN:VEVENT
UID:69e60dd038f05
DTSTAMP:20260420T132816
DTSTART:20221216T090000Z
DTEND:20221216T100000Z
LOCATION:
SUMMARY:LIVE: 16.12.2022 godz. 11:00 - STOK Invest - Strefa Okazji Inwestycyjnych - prowadzący Jacek Kusiak
DESCRIPTION: LIVE: 16.12.2022 godz. 11:00 - STOK Invest - Strefa Okazji Inwestycyjnych - prowadzący Jacek Kusiak
URL:https://mieszkanicznik.org.pl/events/live-16-12-2022-godz-1100-stok-invest-strefa-okazji-inwestycyjnych-prowadzacy-jacek-kusiak/
END:VEVENT
END:VCALENDAR