BEGIN:VCALENDAR
VERSION:2.0
PRODID:-//eventon.com NONSGML v1.0//EN
BEGIN:VEVENT
UID:69e4e64abf190
DTSTAMP:20260419T162722
DTSTART:20221213T154500Z
DTEND:20221213T190000Z
LOCATION:
SUMMARY:Toruń - 13.12.2022 - Jak skutecznie wykorzystać media w reklamie nieruchomości? - Tomasz Kaczyński
DESCRIPTION: Toruń - 13.12.2022 - Jak skutecznie wykorzystać media w reklamie nieruchomości? - Tomasz Kaczyński
URL:https://mieszkanicznik.org.pl/events/torun-13-12-2022-jak-skutecznie-wykorzystac-media-w-reklamie-nieruchomosci-tomasz-kaczynski/
END:VEVENT
END:VCALENDAR