BEGIN:VCALENDAR
VERSION:2.0
PRODID:-//eventon.com NONSGML v1.0//EN
BEGIN:VEVENT
UID:69e5f9cf7276b
DTSTAMP:20260420T120255
DTSTART:20221011T160000Z
DTEND:20221011T210000Z
LOCATION:
SUMMARY:Warszawa - 11.10.2022 - szkolenie - Władysław Grochowski
DESCRIPTION: Warszawa - 11.10.2022 - szkolenie - Władysław Grochowski
URL:https://mieszkanicznik.org.pl/events/warszawa-11-10-2022-szkolenie-wladyslaw-grochowski/
END:VEVENT
END:VCALENDAR