BEGIN:VCALENDAR
VERSION:2.0
PRODID:-//eventon.com NONSGML v1.0//EN
BEGIN:VEVENT
UID:69e747b6eb57d
DTSTAMP:20260421T114734
DTSTART:20220912T160000Z
DTEND:20220912T190000Z
LOCATION:
SUMMARY:Szczecin 12.09.2022 - Dlaczego warto inwestować w Szczecinie? Strategia rozwoju Miasta Szczecin.
DESCRIPTION: Szczecin 12.09.2022 - Dlaczego warto inwestować w Szczecinie? Strategia rozwoju Miasta Szczecin.
URL:https://mieszkanicznik.org.pl/events/szczecin-12-09-2022-dlaczego-warto-inwestowac-w-szczecinie-strategia-rozwoju-miasta-szczecin/
END:VEVENT
END:VCALENDAR