BEGIN:VCALENDAR
VERSION:2.0
PRODID:-//eventon.com NONSGML v1.0//EN
BEGIN:VEVENT
UID:69e76434ab1f1
DTSTAMP:20260421T134908
DTSTART:20220623T163000Z
DTEND:20220623T190000Z
LOCATION:
SUMMARY:Katowice 23.06 Grzegorz KUSZ - Agent Specjalny: Podnajem\,  kwatery i jak je znajdować w trudnych czasach
DESCRIPTION: Katowice 23.06 Grzegorz KUSZ - Agent Specjalny: Podnajem\,  kwatery i jak je znajdować w trudnych czasach
URL:https://mieszkanicznik.org.pl/events/katowice-23-06-grzegorz-kusz-agent-specjalny-podnajem-kwatery-i-jak-je-znajdowac-w-trudnych-czasach/
END:VEVENT
END:VCALENDAR