BEGIN:VCALENDAR
VERSION:2.0
PRODID:-//eventon.com NONSGML v1.0//EN
BEGIN:VEVENT
UID:69e61f6ed1c99
DTSTAMP:20260420T144326
DTSTART:20220709T093000Z
DTEND:20220709T180000Z
LOCATION:
SUMMARY:Częstochowa 9.07. - Spotkanie integracyjne - spływ kajakowy i ognisko
DESCRIPTION: Częstochowa 9.07. - Spotkanie integracyjne - spływ kajakowy i ognisko
URL:https://mieszkanicznik.org.pl/events/czestochowa-9-07-spotkanie-integracyjne-splyw-kajakowy-i-ognisko/
END:VEVENT
END:VCALENDAR