BEGIN:VCALENDAR
VERSION:2.0
PRODID:-//eventon.com NONSGML v1.0//EN
BEGIN:VEVENT
UID:69e61f6ed7073
DTSTAMP:20260420T144326
DTSTART:20220602T153000Z
DTEND:20220602T200000Z
LOCATION:
SUMMARY:Częstochowa - 2.06.- Anna Niecikowska - 3 sposoby zabezpieczenia wynajmującego w umowie najmu
DESCRIPTION: Częstochowa - 2.06.- Anna Niecikowska - 3 sposoby zabezpieczenia wynajmującego w umowie najmu
URL:https://mieszkanicznik.org.pl/events/czestochowa-2-06-anna-niecikowska-3-sposoby-zabezpieczenia-wynajmujacego-w-umowie-najmu/
END:VEVENT
END:VCALENDAR