BEGIN:VCALENDAR
VERSION:2.0
PRODID:-//eventon.com NONSGML v1.0//EN
BEGIN:VEVENT
UID:69e61f321fd23
DTSTAMP:20260420T144226
DTSTART:20220526T090000Z
DTEND:20220526T090000Z
LOCATION:
SUMMARY:Live: Jak inwestować w wierzytelności hipoteczne - Marek Wiśniowski godz. 11
DESCRIPTION: Live: Jak inwestować w wierzytelności hipoteczne - Marek Wiśniowski godz. 11
URL:https://mieszkanicznik.org.pl/events/live-jak-inwestowac-w-wierzytelnosci-hipoteczne-marek-wisniowski-godz-11/
END:VEVENT
END:VCALENDAR