BEGIN:VCALENDAR
VERSION:2.0
PRODID:-//eventon.com NONSGML v1.0//EN
BEGIN:VEVENT
UID:69e61f7cc077f
DTSTAMP:20260420T144340
DTSTART:20220920T160000Z
DTEND:20220920T203000Z
LOCATION:
SUMMARY:Łódź - 20.09.2022 - Nie tylko wygląd nieruchomości ma znaczenie - Magdalena Andler
DESCRIPTION: Łódź - 20.09.2022 - Nie tylko wygląd nieruchomości ma znaczenie - Magdalena Andler
URL:https://mieszkanicznik.org.pl/events/lodz-24-05-2022-nie-tylko-wyglad-nieruchomosci-ma-znaczenie-magdalena-andler/
END:VEVENT
END:VCALENDAR