BEGIN:VCALENDAR
VERSION:2.0
PRODID:-//eventon.com NONSGML v1.0//EN
BEGIN:VEVENT
UID:69e60b7e7e952
DTSTAMP:20260420T131822
DTSTART:20220429T153000Z
DTEND:20220429T190000Z
LOCATION:
SUMMARY:Berlin - 29.04.2022 - Opłacalny remont przy obecnych cenach materiałów i robocizny
DESCRIPTION: Berlin - 29.04.2022 - Opłacalny remont przy obecnych cenach materiałów i robocizny
URL:https://mieszkanicznik.org.pl/events/berlin-29-04-2022-oplacalny-remont-przy-obecnych-cenach-materialow-i-robocizny/
END:VEVENT
END:VCALENDAR