BEGIN:VCALENDAR
VERSION:2.0
PRODID:-//eventon.com NONSGML v1.0//EN
BEGIN:VEVENT
UID:69e633e67610c
DTSTAMP:20260420T161046
DTSTART:20220405T090000Z
DTEND:20220405T190000Z
LOCATION:
SUMMARY:Akademia 5.04.2022 szkolenie: Jak kupić grunt pod inwestycję\,  a jakich gruntów unikać?
DESCRIPTION: Akademia 5.04.2022 szkolenie: Jak kupić grunt pod inwestycję\,  a jakich gruntów unikać?
URL:https://mieszkanicznik.org.pl/events/akademia-5-04-2022-szkolenie-jak-kupic-grunt-pod-inwestycje-a-jakich-gruntow-unikac/
END:VEVENT
END:VCALENDAR