BEGIN:VCALENDAR
VERSION:2.0
PRODID:-//eventon.com NONSGML v1.0//EN
BEGIN:VEVENT
UID:69e6347605bc9
DTSTAMP:20260420T161310
DTSTART:19691231T220000Z
DTEND:19691231T220000Z
LOCATION:
SUMMARY:Akademia 5.04.2022 szkolenie: Jak kupić grunt pod inwestycję\,  a jakich gruntów unikać?
DESCRIPTION: Wielu osobom wydawało się to niemożliwe\,  ale ceny gruntów... przestały rosnąć. Gdy tylko pierwsze statystyki obrazujące to zjawisko ujrzały światło dzienne wybuchła wojna na Ukrainie. Ceny ziemi ponownie poszybowały w górę. Szkolenie: Jak kupić grunt pod inwestycję\,  a jakich gruntów unikać? Co może się z nimi stać po zakończeniu konfliktu\, [..]
URL:https://mieszkanicznik.org.pl/akademia-5-04-2022-szkolenie-jak-kupic-grunt-pod-inwestycje-a-jakich-gruntow-unikac/
END:VEVENT
END:VCALENDAR