BEGIN:VCALENDAR
VERSION:2.0
PRODID:-//eventon.com NONSGML v1.0//EN
BEGIN:VEVENT
UID:69e664ca06f15
DTSTAMP:20260420T193922
DTSTART:20220324T153000Z
DTEND:20220324T215900Z
LOCATION:
SUMMARY:Gdańsk - 24.03.2022 - Praca pośrednika od kuchni - case study - Basia Domarus
DESCRIPTION: Gdańsk - 24.03.2022 - Praca pośrednika od kuchni - case study - Basia Domarus
URL:https://mieszkanicznik.org.pl/events/gdansk-24-03-2022-praca-posrednika-od-kuchni-case-study-basia-domarus/
END:VEVENT
END:VCALENDAR