BEGIN:VCALENDAR
VERSION:2.0
PRODID:-//eventon.com NONSGML v1.0//EN
BEGIN:VEVENT
UID:69e66485f1bd7
DTSTAMP:20260420T193813
DTSTART:20220322T154500Z
DTEND:20220322T215900Z
LOCATION:
SUMMARY:Poznań - 22.03.2022 - Jak inwestować w wierzytelności hipoteczne? - Marek Wiśniowski
DESCRIPTION: Poznań - 22.03.2022 - Jak inwestować w wierzytelności hipoteczne? - Marek Wiśniowski
URL:https://mieszkanicznik.org.pl/events/poznan-22-03-2022-jak-inwestowac-w-wierzytelnosci-hipoteczne-marek-wisniowski/
END:VEVENT
END:VCALENDAR