BEGIN:VCALENDAR
VERSION:2.0
PRODID:-//eventon.com NONSGML v1.0//EN
BEGIN:VEVENT
UID:69e8224a2e1ef
DTSTAMP:20260422T032010
DTSTART:20220427T100000Z
DTEND:20220427T110000Z
LOCATION:
SUMMARY:DYŻUR - BARTOSZ DEKA- 12:00 - 13:00 - ZARZĄDZANIE NAJMEM\,  WYNAJEM OBCOKRAJOWCOM (UKRAINA\,  BIAŁORUŚ)\,  WERYFIKACJA NAJEMCY\,  MEDIATOR NA RYNKU NIERUCHOMOŚCI\,  RENTA DOŻYWOTNIA
DESCRIPTION: DYŻUR - BARTOSZ DEKA- 12:00 - 13:00 - ZARZĄDZANIE NAJMEM\,  WYNAJEM OBCOKRAJOWCOM (UKRAINA\,  BIAŁORUŚ)\,  WERYFIKACJA NAJEMCY\,  MEDIATOR NA RYNKU NIERUCHOMOŚCI\,  RENTA DOŻYWOTNIA
URL:https://mieszkanicznik.org.pl/events/dyzur-bartosz-deka-1200-1300-zarzadzanie-najmem-wynajem-obcokrajowcom-ukraina-bialorus-weryfikacja-najemcy-mediator-na-rynku-nieruchomosci-renta-dozywotnia/var/ri-9.l-L1
END:VEVENT
END:VCALENDAR