BEGIN:VCALENDAR
VERSION:2.0
PRODID:-//eventon.com NONSGML v1.0//EN
BEGIN:VEVENT
UID:69e69d3853008
DTSTAMP:20260420T234008
DTSTART:20220224T153000Z
DTEND:20220224T190000Z
LOCATION:
SUMMARY:Gorzów Wlkp. - 24.02.2022 - Dziedziczenie w praktyce
DESCRIPTION: Gorzów Wlkp. - 24.02.2022 - Dziedziczenie w praktyce
URL:https://mieszkanicznik.org.pl/events/gorzow-wlkp-24-02-2022-dziedziczenie-w-praktyce/
END:VEVENT
END:VCALENDAR