BEGIN:VCALENDAR
VERSION:2.0
PRODID:-//eventon.com NONSGML v1.0//EN
BEGIN:VEVENT
UID:69e74e9d49249
DTSTAMP:20260421T121701
DTSTART:20220210T160000Z
DTEND:20220210T200000Z
LOCATION:
SUMMARY:Łódź - 10.02.2022 - Jerzy Sempowicz - Niestandardowe metody pozyskiwania nieruchomości
DESCRIPTION: Łódź - 10.02.2022 - Jerzy Sempowicz - Niestandardowe metody pozyskiwania nieruchomości
URL:https://mieszkanicznik.org.pl/events/lodz-10-02-2022-jerzy-sempowicz-niestandardowe-metody-pozyskiwania-nieruchomosci/
END:VEVENT
END:VCALENDAR