BEGIN:VCALENDAR
VERSION:2.0
PRODID:-//eventon.com NONSGML v1.0//EN
BEGIN:VEVENT
UID:69e75bf98b6e2
DTSTAMP:20260421T131401
DTSTART:20220126T090000Z
DTEND:20220126T103000Z
LOCATION:
SUMMARY:LIVE 26.01.2022 "Pogląd na rynek nieruchomości okiem pośrednika" - Natalia Drysiak
DESCRIPTION: LIVE 26.01.2022 "Pogląd na rynek nieruchomości okiem pośrednika" - Natalia Drysiak
URL:https://mieszkanicznik.org.pl/events/szkolenie-online-26-01-2022-poglad-na-rynek-nieruchomosci-okiem-posrednika/
END:VEVENT
END:VCALENDAR