BEGIN:VCALENDAR
VERSION:2.0
PRODID:-//eventon.com NONSGML v1.0//EN
BEGIN:VEVENT
UID:69e75c56eb45a
DTSTAMP:20260421T131534
DTSTART:20220210T170000Z
DTEND:20220210T190000Z
LOCATION:
SUMMARY:Kraków - 10.02.2022 - Wszystko o najmie okazjonalnym i najmie instytucjonalnym.
DESCRIPTION: Kraków - 10.02.2022 - Wszystko o najmie okazjonalnym i najmie instytucjonalnym.
URL:https://mieszkanicznik.org.pl/events/krakow-10-02-2022-wszystko-o-najmie-okazjonalnym-i-najmie-instytucjonalnym/
END:VEVENT
END:VCALENDAR