BEGIN:VCALENDAR
VERSION:2.0
PRODID:-//eventon.com NONSGML v1.0//EN
BEGIN:VEVENT
UID:69e75bfa1689f
DTSTAMP:20260421T131402
DTSTART:20220203T153000Z
DTEND:20220203T215900Z
LOCATION:
SUMMARY:Bydgoszcz 3.02.2022 szkolenie z  Magdaleną Andler
DESCRIPTION: Bydgoszcz 3.02.2022 szkolenie z  Magdaleną Andler
URL:https://mieszkanicznik.org.pl/events/bydgoszcz-3-03-2022-szkolenie-z-magdalena-andler/
END:VEVENT
END:VCALENDAR